BEGIN:VCALENDAR
VERSION:2.0
PRODID:icalendar-ruby
CALSCALE:GREGORIAN
X-WR-TIMEZONE:Europe/Helsinki
BEGIN:VTIMEZONE
TZID:Europe/Helsinki
BEGIN:DAYLIGHT
DTSTART:20260329T040000
TZOFFSETFROM:+0200
TZOFFSETTO:+0300
RRULE:FREQ=YEARLY;BYDAY=-1SU;BYMONTH=3
TZNAME:EEST
END:DAYLIGHT
BEGIN:STANDARD
DTSTART:20261025T030000
TZOFFSETFROM:+0300
TZOFFSETTO:+0200
RRULE:FREQ=YEARLY;BYDAY=-1SU;BYMONTH=10
TZNAME:EET
END:STANDARD
END:VTIMEZONE
BEGIN:VEVENT
DTSTAMP:20260420T184616
UID:uimaseura-aquila.myclub.fi-10569763
DTSTART;TZID=Europe/Helsinki:20260401T000000
DTEND;TZID=Europe/Helsinki:20260401T000000
DESCRIPTION:REKISTERÖITYMINEN UIMASEURA AQUILA RY:N MYCLUB JÄRJESTELMÄÄ
 N \n\nRekisteröityminen MyClub-järjestelmään ei tarkoita seuran jäsen
 eksi liittymistä\, vaan jäsenyys haetaan tarvittaessa erikseen TÄSTÄ. 
 Kurssitoimintaan osallistuminen ei edellytä seuran jäsenyyttä.\nVoit re
 kisteröityä järjestelmään jo etukäteen ennen varsinaista ilmoittautu
 mista tämän tapahtuman kautta. Suosittelemme tekemään rekisteröimisen
  hyvissä ajoin\, jotta ilmoittautuminen sujuu nopeasti ja vaivattomasti. 
 Ennen ilmoittautumista tutustu kurssin infoon osoitteessa www.uimaseura-aq
 uila.fi. Ilmoittautumalla hyväksyt kurssiehdot ja sitoudut noudattamaan n
 iitä.\nTäytä kaikki tiedot huolillisesti. Rekisteröityneet lisätään
  seuran viestintälistalle.\nHuomioithan\, että jokainen osallistuja ilmo
 itetaan mukaan henkilökohtaisilla tunnuksilla. Mikäli ilmoitat useamman 
 osallistujan\, tulee jokaiselle luoda omat tunnukset.\nYhteystiedot:\np. 0
 44 989 0498\ninfo@uimaseura-aquila.fi / uimakoulut@uimaseura-aquila.fi\nww
 w.uimaseura-aquila.fi\n\nhttps://uimaseura-aquila.myclub.fi/flow/events/10
 569763
LOCATION:Ei tapahtumapaikkaa\, 
SEQUENCE:0
SUMMARY:Uimaseura Aquila ry: REKISTERÖITYMINEN
URL;VALUE=URI:https://uimaseura-aquila.myclub.fi/flow/events/10569763
END:VEVENT
END:VCALENDAR
